BEGIN:VCALENDAR
VERSION:2.0
PRODID:-//Living Heritage Foundation - ECPv6.15.20//NONSGML v1.0//EN
CALSCALE:GREGORIAN
METHOD:PUBLISH
X-WR-CALNAME:Living Heritage Foundation
X-ORIGINAL-URL:https://www.livingheritagefoundation.org
X-WR-CALDESC:Events for Living Heritage Foundation
REFRESH-INTERVAL;VALUE=DURATION:PT1H
X-Robots-Tag:noindex
X-PUBLISHED-TTL:PT1H
BEGIN:VTIMEZONE
TZID:America/Guatemala
BEGIN:STANDARD
TZOFFSETFROM:-0600
TZOFFSETTO:-0600
TZNAME:CST
DTSTART:20230101T000000
END:STANDARD
END:VTIMEZONE
BEGIN:VEVENT
DTSTART;TZID=America/Guatemala:20260228T080000
DTEND;TZID=America/Guatemala:20260307T170000
DTSTAMP:20260424T114043
CREATED:20250725T153629Z
LAST-MODIFIED:20250725T153629Z
UID:2183-1772265600-1772902800@www.livingheritagefoundation.org
SUMMARY:John & Ann Hall/KS/Construction
DESCRIPTION:
URL:https://www.livingheritagefoundation.org/event/john-ann-hall-ks-construction/
CATEGORIES:TEAMS
ATTACH;FMTTYPE=image/webp:https://www.livingheritagefoundation.org/wp-content/uploads/2025/07/480982205_957230086580580_8565317483010188672_n.webp
END:VEVENT
BEGIN:VEVENT
DTSTART;TZID=America/Guatemala:20260214T080000
DTEND;TZID=America/Guatemala:20260223T170000
DTSTAMP:20260424T114043
CREATED:20250725T151848Z
LAST-MODIFIED:20250725T153702Z
UID:2177-1771056000-1771866000@www.livingheritagefoundation.org
SUMMARY:Howard & Sally Baulch/OH/Construction
DESCRIPTION:
URL:https://www.livingheritagefoundation.org/event/howard-sally-baulch-oh-construction/
CATEGORIES:TEAMS
ATTACH;FMTTYPE=image/jpeg:https://www.livingheritagefoundation.org/wp-content/uploads/2025/07/476045345_1135412798285452_7285525405979859210_n.jpg
END:VEVENT
BEGIN:VEVENT
DTSTART;TZID=America/Guatemala:20260130T080000
DTEND;TZID=America/Guatemala:20260209T170000
DTSTAMP:20260424T114043
CREATED:20250724T191944Z
LAST-MODIFIED:20250725T153729Z
UID:2160-1769760000-1770656400@www.livingheritagefoundation.org
SUMMARY:John Hodgin/NC/Construction/
DESCRIPTION:
URL:https://www.livingheritagefoundation.org/event/john-hodgin-nc-construction/
CATEGORIES:TEAMS
ATTACH;FMTTYPE=image/webp:https://www.livingheritagefoundation.org/wp-content/uploads/2025/07/FB_IMG_1739918043315.webp
END:VEVENT
BEGIN:VEVENT
DTSTART;TZID=America/Guatemala:20260108T080000
DTEND;TZID=America/Guatemala:20260118T170000
DTSTAMP:20260424T114043
CREATED:20250724T192550Z
LAST-MODIFIED:20250725T153900Z
UID:2166-1767859200-1768755600@www.livingheritagefoundation.org
SUMMARY:Michael Erickson/FL/CONSTRUCTION
DESCRIPTION:
URL:https://www.livingheritagefoundation.org/event/michael-erickson-fl-construction/
CATEGORIES:TEAMS
ATTACH;FMTTYPE=image/jpeg:https://www.livingheritagefoundation.org/wp-content/uploads/2025/07/IMG-20240130-WA0029.jpg
END:VEVENT
BEGIN:VEVENT
DTSTART;TZID=America/Guatemala:20240302T080000
DTEND;TZID=America/Guatemala:20240309T170000
DTSTAMP:20260424T114043
CREATED:20240109T170543Z
LAST-MODIFIED:20240109T170917Z
UID:1816-1709366400-1710003600@www.livingheritagefoundation.org
SUMMARY:John & Ann Hall
DESCRIPTION:Volunteering 2024
URL:https://www.livingheritagefoundation.org/event/john-ann-hall/
LOCATION:Quetzaltenango\, Quetzaltenango\, Quetzaltenango\, Guatemala
CATEGORIES:TEAMS
ATTACH;FMTTYPE=image/webp:https://www.livingheritagefoundation.org/wp-content/uploads/2023/03/IMG-20230301-WA0023.webp
END:VEVENT
BEGIN:VEVENT
DTSTART;TZID=America/Guatemala:20240217T080000
DTEND;TZID=America/Guatemala:20240225T170000
DTSTAMP:20260424T114043
CREATED:20240108T152709Z
LAST-MODIFIED:20240108T153206Z
UID:1811-1708156800-1708880400@www.livingheritagefoundation.org
SUMMARY:Howard & Sally Baulch
DESCRIPTION:Volunteering 2024
URL:https://www.livingheritagefoundation.org/event/valle-de-candelaria/
LOCATION:Valle de Candelaria\, San Lorenzo\, Mazatenango\, Guatemala
CATEGORIES:TEAMS
ATTACH;FMTTYPE=image/webp:https://www.livingheritagefoundation.org/wp-content/uploads/2023/10/338701446_489470923260154_3975298387694012478_n.webp
END:VEVENT
BEGIN:VEVENT
DTSTART;TZID=America/Guatemala:20240125T080000
DTEND;TZID=America/Guatemala:20240204T170000
DTSTAMP:20260424T114043
CREATED:20231030T182119Z
LAST-MODIFIED:20240109T153240Z
UID:1682-1706169600-1707066000@www.livingheritagefoundation.org
SUMMARY:Mike Erickson's Team
DESCRIPTION:[wpforms id=”1040″]Volunteering 2024
URL:https://www.livingheritagefoundation.org/event/volunteer/
LOCATION:Valle de Candelaria\, San Lorenzo\, Mazatenango\, Guatemala
CATEGORIES:TEAMS
ATTACH;FMTTYPE=image/jpeg:https://www.livingheritagefoundation.org/wp-content/uploads/2023/10/51217604_2041312025945699_1278166277126356992_n.jpg
END:VEVENT
END:VCALENDAR